BEGIN:VCALENDAR
VERSION:2.0
PRODID:-//Open-Earth-Monitor project - ECPv6.15.20//NONSGML v1.0//EN
CALSCALE:GREGORIAN
METHOD:PUBLISH
X-WR-CALNAME:Open-Earth-Monitor project
X-ORIGINAL-URL:https://earthmonitor.org
X-WR-CALDESC:Events for Open-Earth-Monitor project
REFRESH-INTERVAL;VALUE=DURATION:PT1H
X-Robots-Tag:noindex
X-PUBLISHED-TTL:PT1H
BEGIN:VTIMEZONE
TZID:Europe/Paris
BEGIN:DAYLIGHT
TZOFFSETFROM:+0100
TZOFFSETTO:+0200
TZNAME:CEST
DTSTART:20210328T010000
END:DAYLIGHT
BEGIN:STANDARD
TZOFFSETFROM:+0200
TZOFFSETTO:+0100
TZNAME:CET
DTSTART:20211031T010000
END:STANDARD
BEGIN:DAYLIGHT
TZOFFSETFROM:+0100
TZOFFSETTO:+0200
TZNAME:CEST
DTSTART:20220327T010000
END:DAYLIGHT
BEGIN:STANDARD
TZOFFSETFROM:+0200
TZOFFSETTO:+0100
TZNAME:CET
DTSTART:20221030T010000
END:STANDARD
BEGIN:DAYLIGHT
TZOFFSETFROM:+0100
TZOFFSETTO:+0200
TZNAME:CEST
DTSTART:20230326T010000
END:DAYLIGHT
BEGIN:STANDARD
TZOFFSETFROM:+0200
TZOFFSETTO:+0100
TZNAME:CET
DTSTART:20231029T010000
END:STANDARD
BEGIN:DAYLIGHT
TZOFFSETFROM:+0100
TZOFFSETTO:+0200
TZNAME:CEST
DTSTART:20240331T010000
END:DAYLIGHT
BEGIN:STANDARD
TZOFFSETFROM:+0200
TZOFFSETTO:+0100
TZNAME:CET
DTSTART:20241027T010000
END:STANDARD
END:VTIMEZONE
BEGIN:VTIMEZONE
TZID:Europe/Athens
BEGIN:DAYLIGHT
TZOFFSETFROM:+0200
TZOFFSETTO:+0300
TZNAME:EEST
DTSTART:20210328T010000
END:DAYLIGHT
BEGIN:STANDARD
TZOFFSETFROM:+0300
TZOFFSETTO:+0200
TZNAME:EET
DTSTART:20211031T010000
END:STANDARD
BEGIN:DAYLIGHT
TZOFFSETFROM:+0200
TZOFFSETTO:+0300
TZNAME:EEST
DTSTART:20220327T010000
END:DAYLIGHT
BEGIN:STANDARD
TZOFFSETFROM:+0300
TZOFFSETTO:+0200
TZNAME:EET
DTSTART:20221030T010000
END:STANDARD
BEGIN:DAYLIGHT
TZOFFSETFROM:+0200
TZOFFSETTO:+0300
TZNAME:EEST
DTSTART:20230326T010000
END:DAYLIGHT
BEGIN:STANDARD
TZOFFSETFROM:+0300
TZOFFSETTO:+0200
TZNAME:EET
DTSTART:20231029T010000
END:STANDARD
END:VTIMEZONE
BEGIN:VEVENT
DTSTART;TZID=Europe/Paris:20230423T080000
DTEND;TZID=Europe/Paris:20230428T170000
DTSTAMP:20260425T162912
CREATED:20230419T092553Z
LAST-MODIFIED:20230419T092553Z
UID:24138-1682236800-1682701200@earthmonitor.org
SUMMARY:European Geosciences Union (EGU) General Assembly 2023
DESCRIPTION:IIASA will be present at the General Assembly 2023 of the European Geosciences Union (EGU)\, which is held at the Austria Center Vienna (ACV) in Vienna\, Austria and online\, from 23–28 April 2023. The assembly is open to the scientists of all nations. It’s format will feature three presentation styles\, including poster\, oral and PICO (Presenting Interactive COntent) presentations – which are composed of a short two minute presentation and a longer interactive discussion. \nSteffen Fritz\, IIASA Strategic Initiatives Program Director and researcher in the Novel Data Ecosystems Research Group of the Advancing Systems Analysis Program\, and its team\, will make a presentation entitled “Opening up FAIR in-situ land-use reference data: current gaps\, obstacles and future challenge”. The presentation will close by making the audience aware of the LUCKINet consortium\, which is trying to make more reference data openly accessible and to build a consistent global land-use change dataset as well as work done on in-situ data within the EU LAMASUS and OEMC project. You can find information about it on the official page. The poster used during the presentation will be made available after the session.
URL:https://earthmonitor.org/events/european-geosciences-union-egu-general-assembly-2023/
LOCATION:Austria Center Vienna
CATEGORIES:Hosted Events
END:VEVENT
BEGIN:VEVENT
DTSTART;TZID=Europe/Paris:20230118T094500
DTEND;TZID=Europe/Paris:20230118T170000
DTSTAMP:20260425T162912
CREATED:20230111T105823Z
LAST-MODIFIED:20230111T105823Z
UID:23719-1674035100-1674061200@earthmonitor.org
SUMMARY:Meeting on development and sharing of open geodata
DESCRIPTION:Open geodata is the idea that certain geospatial and Earth Observation (EO) data should be freely available to everyone to use\, re-use and redistribute without restrictions like copyright or patents\, but with requirements such as attribution and share- alike. It is considered a best practice for modern geo-information and EO research in line with Open Science and FAIR principles. However\, developing easily accessible (e.g. cloud-optimised) and re-usable (big) geospatial datasets\, and sharing them “effectively” with the research community and other stakeholders is challenging and usually requires a team effort including researchers\, research software engineers\, technology advisors\, and community managers. \nCollaboration between research institutions to share technical and practical know-how on best practices\, as well as lessons learned while developing and sharing open geodata\, supports such efforts and helps in developing an open data culture for open research and development communities. The meeting on “Development and Sharing of Open Geodata” aims to initiate such a collaboration between ITC and OpenGeoHub\, by bringing both institutions together to present state-of-the-art research activities with a focus on open geodata\, discuss the needs and challenges\, and pursue collaboration opportunities especially to produce joint datasets and software. \nOpenGeoHub is an independent research foundation (a DeepTech organisation) with 20 staff\, primarily data scientists and technical experts\, located at the Agro Business Park in Wageningen. It focuses on promoting open data and open source software solutions to support regional and global projects\, currently leads the Open Earth Monitor and Eco Data Cube\, and is also involved in the Land Carbon Lab project led by WRI. \nLive streaming will be available at https://www.itc.nl/live/ during the event. \nRegistration\nRegistration is required to attend the mini-symposium. For registration please fill-in the registration form. \nProgramme\n\n\n\n\n\n\n\n\n\n9:45 – 9:55 \n\n\nWelcome and opening (Prof. Dr. Freek D. van der Meer\, Dean ITC) (TBC) \n\n\n\n\n9:55 – 10:20 \n\n\nOpenGeoHub\nPresentation on OpenGeoHub Foundation and its open geodata activities (Dr. Tomislav Hengl\, Director OpenGeoHub Foundation)\n15 min presentation + 10 min Q&A \n\n\n\n\n10:20 – 10:45 \n\n\nITC and 4 Profiling Themes\nPresentation on ITC and its 4 profiling themes (Prof. Dr. Karin Pfeffer\, Portfolio Holder Research ITC)\n15 min presentation + 10 min Q&A \n\n\n\n\n10:45 – 11:00 \n\n\nCoffee break \n\n\n\n\n11:00 – 12:30 \n\n\nPresentations of ITC and OpenGeoHub projects \n\nOpen Earth Monitor: a cyberinfrastructure bringing together key open-source developers in Europe (Dr Tomislav Hengl\, OpenGeoHub)\nEcoExtreML + WUNDER: Digital Twin of the soil-plant system (Dr Yijian Zeng\, ITC-WRS)\nEcoDataCube for Europe: combining spatiotemporal ML and open EO data cubes (Dr Leandro Parente\, OpenGeoHub)\nTowards a Global Multitemporal Data Set of Glacier Outlines using Deep Learning and Cloud Computing (Prof. Dr Claudio Persello\, ITC-EOS)\n\n15 min presentation + 5 min Q&A for each project.\n10 min plenary Q&A. \n\n\n\n\n12:30 – 13:30 \n\n\nLunch \n\n\n\n\n13:40 – 15:20 \n\n\nPresentations of ITC and OpenGeoHub projects \n\nAI4SoilHealth: accelerating collection and use of soil health information using AI technology to support the Soil Deal for Europe and EU Soil Observatory (Dr. Ichsani Wheeler\, OpenGeoHub)\nOpen geospatial data publication at ITC (Masoome Shariat\, ITC-FB)\n\n15 min presentation + 5 min Q&A for each project.\n5 min plenary Q&A. \n\n\n\n\n14:15 – 14:45 \n\n\nPlenary Discussion\nNeeds and Challenges of Developing and Sharing Open Geospatial Datasets \n\n\n\n\n14:45 – 15:00 \n\n\nCoffee break \n\n\n\n\n15:00 – 16:00 \n\n\nPhD’s in the Spotlight\nLightning presentations of PhD candidates with a focus on datasets that will be developed during their studies. \n\nSpace-time modeling of vegetation in a changing environment (Carmelo Bonannella\, OpenGeoHub)\nBig and Useful Maps: Land use / land cover classification with high thematic depth (Martijn Witjes\, OpenGeoHub)\nMapping land potential / tracking land degradation using EO data (Julia Hackländer\, OpenGeoHub)\nBuilding soil indicator data cubes using pan-EU soil databases (Xuemeng Tian\, OpenGeoHub)\nTBD (ITC)\nTBD (ITC)\nTBD (ITC)\nTBD (ITC)\n\n5 min presentation + 2 min Q&A for each PhD candidate.\n5 min plenary Q&A \n\n\n\n\n16:00 – 17:00 \n\n\nDrinks
URL:https://earthmonitor.org/events/meeting-on-development-and-sharing-of-open-geodata/
LOCATION:ITC Auditorium\, Hengelosestraat 99\, Enschede\, 7514 AE\, Netherlands
CATEGORIES:Public event
ATTACH;FMTTYPE=image/jpeg:https://earthmonitor.org/wp-content/uploads/2023/01/big-data-min.jpg
ORGANIZER;CN="ITC Twente":MAILTO:s.girgin@utwente.nl
END:VEVENT
BEGIN:VEVENT
DTSTART;TZID=Europe/Athens:20221207T111500
DTEND;TZID=Europe/Athens:20221207T130000
DTSTAMP:20260425T162912
CREATED:20221024T092243Z
LAST-MODIFIED:20221024T095013Z
UID:23269-1670411700-1670418000@earthmonitor.org
SUMMARY:Present and Future of Data Cubes discussion forum
DESCRIPTION:Critical environmental information is today heavily under-used because it requires a high level of expertise and computing capacity. EO data is not yet a commodity and neither is environmental information. \nHow can we make monitoring systems that explain the effects of global warming on land cover changes and extreme weather (floods\, droughts etc.) as simple to use and as popular as Google Maps or AccuWeather? \nWhat have we learned so far from NASA’s MODIS\, Google Earth Engine\, Copernicus initiatives\, and OpenEO.cloud? \nIn this live-streamed event organized by HorizonEurope’s Open-Earth-Monitor project and OpenGeoHub\, international experts and project partners will discuss how we can make environmental data derived from Earth Observations and field monitoring more usable\, accessible and relevant to decision-makers and society. \nREGISTER HERE! \nStarting from the discussion of existing top-level solutions for the effective use of large EO data for real-world applications\, we will explore open-source solutions that can process massive volumes of EO data in a more transparent and reproducible way. \nOn top of public services\, commercial solutions can play a massive role: we will analyze and discuss existing commercial Data Cube services covering the whole of Europe and the whole world to understand what the best way to use them is for open\, European projects. \nFinally\, the forum will give stage also to more in-depth discussions around cloud-optimized data formats and their applicability to store and share gridded\, vector and tabular data. \nSpeakers will be soon announced! \nAbout the EuroGeo Workshop 2022 in Athens\nThis event will take place within the EuroGEO workshop 2022 ‘Towards an integrated and convergent EuroGEO’ on 7 – 9 December 2022\, in Athens\, Greece. \nEuroGEO combines the contributions of European members of the Group on Earth Observations (GEO)\, a partnership of more than 100 national governments\, over 100 participating organisations and the European Commission. GEO envisions a future where decisions and measures for the benefit of humankind are informed by coordinated\, comprehensive and sustained Earth observations.  \nThe annual workshop brings together European players interested in and actively contributing to EuroGEO. \nThis year\, the workshop is organised by the European Commission\, the General Secretariat for Research and Innovation of the Hellenic Ministry of Development and Investments\, and the Greek GEO Office operating within the National Observatory of Athens. \nREGISTER HERE!
URL:https://earthmonitor.org/events/present-and-future-of-data-cubes-discussion-forum/
LOCATION:Eventbrite
CATEGORIES:Public event
ATTACH;FMTTYPE=image/jpeg:https://earthmonitor.org/wp-content/uploads/2022/10/OEMC-Workshop-Athens-2022.jpg
ORGANIZER;CN="OpenGeoHub":MAILTO:media-office@opengeohub.org
END:VEVENT
BEGIN:VEVENT
DTSTART;TZID=Europe/Paris:20221121T110000
DTEND;TZID=Europe/Paris:20221121T163000
DTSTAMP:20260425T162912
CREATED:20221025T100132Z
LAST-MODIFIED:20221025T100132Z
UID:23275-1669028400-1669048200@earthmonitor.org
SUMMARY:Seminar Digital Twins for Earth Sciences: How to prepare your infrastructure?
DESCRIPTION:This seminar brings together interested parties to discuss these questions and build the collaborations needed to prepare the Dutch research community for DestinE.\nDestination Earth is a major European program to build Digital Twins of Earth for a sustainable future. It will deliver huge data amounts to support research and policies. This seminar introduces the concept of Digital Earth Twins and we discuss together how the Dutch research community can prepare their infrastructure to make full use of the data. \nThrough the unprecedented observation and simulation capabilities of DestinE\, empowered by new digital infrastructure (incl. EuroHPC Exascale systems) and AI capacity\, we will be better prepared to respond to major natural disasters\, adapt to climate change and predict the socioeconomic impact. DestinE supports the European Commission’s Green Deal action and Digital Strategy. \nThe amount of data available for Earth Sciences research is ever-growing. DestinE\, on the one hand\, will incorporate cutting-edge models and real-time measurements but\, on the other hand\, also generate huge amounts of new data. How can researchers ensure that they are ready to process and analyse this data for innovative research? Which infrastructures are already available and what is lacking? \nFor whom\nResearchers\, Program managers\, IT support\, Data scientists \nOrganization\nThis seminar is organised by SURF in cooperation with the Netherlands Space Office (NSO). \nProgram\n\n\n\nTime\nSubject\n\n\n\n\n10.30\nWalk in\n\n\n11.00\nRon Augustus (SURF)\nWelcome at SURF\n\n\n11.10\nWilco Hazeleger (UU)\nKeynote\n\n\n11.45\nRaymond Sluiter (NSO)\nDestination Earth & Earth Observation Infrastructures\n\n\n12.10\nFemke Vossepoel (TUD)\nDigital Twins for safe and sustainable Delta development in a changing Climate\n\n\n12.35\nLunch\n\n\n13.35\nGennadii Donchyts (Google)\nGoogle Earth Engine\n\n\n14.00\nHaili Hu\, Raymond Oonk (SURF)\nWorking together with SURF for Earth Sciences\n\n\n14.10\nBreak out session / Futuring\n\n\n15.10\nBreak\n\n\n15.30\nTomislav Hengl (OpenGeoHub)\nDecentralized computing infrastructures and open source cloud-solutions for Digital Earth Twin systems (or how to scale up a proven idea within a modest computing budget)\n\n\n15.55\nKeynote:\nThomas Geenen (ECMWF)\n\n\n16.30 – 17.30\nClosing and drinks\n\n\n\nSURF is a cooperative association of Dutch educational and research institutions in which the members combine their strengths. Within SURF\, we work together to acquire or develop the best possible digital services\, and to encourage knowledge sharing through continuous innovation. The members are the owners of SURF. \nOfficial event\nRegister here
URL:https://earthmonitor.org/events/seminar-digital-twins-for-earth-sciences-how-to-prepare-your-infrastructure/
LOCATION:SURF office\, Utrecht\, Moreelsepark 48\, Utrecht\, 3511 EP
CATEGORIES:Public event
ATTACH;FMTTYPE=image/jpeg:https://earthmonitor.org/wp-content/uploads/2022/10/earth-1990298.jpg
ORGANIZER;CN="SURF":MAILTO:info@surf.nl
END:VEVENT
BEGIN:VEVENT
DTSTART;TZID=Europe/Paris:20220719T083000
DTEND;TZID=Europe/Paris:20220719T180000
DTSTAMP:20260425T162912
CREATED:20220609T121428Z
LAST-MODIFIED:20220713T145439Z
UID:22285-1658219400-1658253600@earthmonitor.org
SUMMARY:Innovative governance\, environmental observations and digital solutions in support of the EU Green Deal
DESCRIPTION:Open-Earth-Monitor is a Horizon Europe project gathering a consortium of 23 organizations across Europe and beyond\, starting on June 1st. The mission of the Open-Earth-Monitor project consortium is to significantly accelerate the uptake of environmental information to guide current and future users in research\, decision-making and citizens toward the most sustainable solutions. \nThe consortium invites you to follow the launch event through a high-quality live-stream service from anywhere in the world & get to know the future activities\, outputs and outstanding researchers part of the Open-Earth-Monitor project.  \nDeadline for registration: 1 June 2022 \nProgramme\n(CEST – Amsterdam) \nBlock 1 (09:00 – 09:35) \nIntroduction to the project: what is the OEM cyberinfrastructure project? by Tomislav Hengl (OpenGeoHub) \nBlock 2 (09:35 – 09:50)\nEnabling bottom-up governance of environmental data by Ichsani Wheeler (OpenGeoHub) \nBlock 3 (09:50 – 10:10)\nAnchoring Open-Earth-Monitor to the twin transition by Jean Dusart (Project Officer at European Commission DG Research & Innovation) \nBlock 4 (10:10 – 10:30)\nEuroGEO related project portfolio by Erwin Goor (Project Officer\, Environmental observation at European Commission – European Research Executive Agency) \nCoffee Break (10:30 – 11:00) \nBlock 5 (11:00 – 11:30)\nEarth Observation Land Data & Services beyond 2022 by Joanna Ruiter (Netherlands Space Office) \nBlock 6 (11:30 – 12:00)\nEO Platforms and open science in support of Green Deal ambitions by Patrick Griffiths (European Space Agency) \nBlock 7 (12:00 – 12:30)\nData and governance gaps in the context of achieving Land Degradation Neutrality (SDG Target 15.3) by Barron Joseph Orr (Lead Scientist\, United Nations Convention to Combat Desertification) \nLunch & Interactive Demos (12:30 – 13:30) \nBlock 8 (12:00 – 12:30)\nBetter connecting the European groundbased forest inventories with EO data; 27 years experiences with gathering ground based data by Gert-Jan Nabuurs (Wageningen University and Research) \nBlock 9 (14:00 – 14:30)\nOpen knowledge to bridge the digital divide by Yana Gevorgyan (Geo Secretariat) \nBlock 10 (14:30 – 15:00)\nMapping Land Use and Land Cover: The Challenges of Going Glocal by Gilberto Camara (Senior Researcher\, National Institute for Space Research\, Brazil) \nCoffee Break (15:00 – 15:30) \nBlock 11 (15:30 – 16:00)\nNeed for environmental observation data: working with the private sector and investors by Dagmar Mooij (IDH-The Sustainable Trade Initiative) \nBlock 12 (16:00 – 16:30)\nGlobal land cover and land use monitoring by Matt Hansen (Co-director at Global Land Analysis and Discovery) \nBlock 13 (16:30 – 17:00)\nEO4EU: AI-augmented ecosystem for EO data accessibility with XR User Interfaces for Service and Data Exploitation by Stathes P. Hadjiefthymiades (Dept. of Informatics & Telecommunications\, University of Athens\, EO4EU project) \n\nBlock 14 (17:00 – 17:30)\n\n\n\n\nDiscussion forum “How can EO and AI help deliver green new deal/ what could be the most cost-effective path — the win-win-win?” with all keynote speakers \n\n\n\n\n\n\n\nHappy Hour (17:30 – 18:00)
URL:https://earthmonitor.org/events/innovative-governance-environmental-observations-and-digital-solutions-in-support-of-the-eu-green-deal/
LOCATION:Forum Building\, Droevendaalsesteeg 2\, Wageningen\, 6708 PB\, Netherlands
CATEGORIES:Public event
ATTACH;FMTTYPE=image/png:https://earthmonitor.org/wp-content/uploads/2022/04/OEM-Launch-Eventbrite-3.png
ORGANIZER;CN="OpenGeoHub":MAILTO:media-office@opengeohub.org
END:VEVENT
BEGIN:VEVENT
DTSTART;TZID=Europe/Paris:20220601T080000
DTEND;TZID=Europe/Paris:20220601T170000
DTSTAMP:20260425T162912
CREATED:20220420T151931Z
LAST-MODIFIED:20220420T151931Z
UID:22177-1654070400-1654102800@earthmonitor.org
SUMMARY:Registration deadline Open-Earth-Monitor Launch Event
DESCRIPTION:
URL:https://earthmonitor.org/events/registration-deadline-open-earth-monitor-launch-event/
END:VEVENT
END:VCALENDAR